BEGIN:VCALENDAR
VERSION:2.0
PRODID:-//eventon.com NONSGML v1.0//EN
CALSCALE:GREGORIAN
METHOD:PUBLISH
BEGIN:VEVENT
UID:69e4cf3c0dacf
DTSTAMP:20260419T124900Z
DTSTART:20251127
DTEND:20251128
LOCATION:
SUMMARY:Gran Canaria Open (Pickle Pro Tour)
DESCRIPTION:Gran Canaria Open (Pickle Pro Tour)\nhttps://pickleballspain.or
 g/events/gran-canaria-open-pickle-pro-tour/
URL:https://pickleballspain.org/events/gran-canaria-open-pickle-pro-tour/
END:VEVENT
END:VCALENDAR